BEGIN:VCALENDAR
VERSION:2.0
PRODID:-//Gallery Saint-Cyr  - ECPv4.6//NONSGML v1.0//EN
CALSCALE:GREGORIAN
METHOD:PUBLISH
X-WR-CALNAME:Gallery Saint-Cyr 
X-ORIGINAL-URL:https://lisesaintcyr.com
X-WR-CALDESC:Events for Gallery Saint-Cyr 
BEGIN:VEVENT
DTSTART;TZID=UTC+0:20171212T093000
DTEND;TZID=UTC+0:20171212T123000
DTSTAMP:20260420T090100
CREATED:20170913T140539Z
LAST-MODIFIED:20171201T134133Z
UID:3524-1513071000-1513081800@lisesaintcyr.com
SUMMARY:Atelier Pendantif
DESCRIPTION:Venez créer de beaux pendantifs avec notre pâte d’Argile de Rose 🌹 vous pourrez en donner en cadeau pour noël ou pour vous-même 😉 \nLe coût es de $50\,00\, une demi-journée\, ceci comprend les produits Paverpol et l’achat de deux pendantifs \n  \n  \n  \n
URL:https://lisesaintcyr.com/event/pendant/
LOCATION:15 Pacific av.\, Senneville\, Quebec\, H9X 1A2\, Canada
ATTACH;FMTTYPE=image/jpeg:https://lisesaintcyr.com/wp-content/uploads/2017/09/IMG_3518.jpg
ORGANIZER;CN="Lise":MAILTO:lise.stcyr@gmail.com
END:VEVENT
END:VCALENDAR